BEGIN:VCALENDAR
VERSION:2.0
PRODID:http://www.breisigerland.de
BEGIN:VEVENT
UID:de8402c1-3c66-11f1-a3e9-0242ac11002b-1785251700000-de
DTSTAMP:20260420T031314Z
DTSTART:20260728T151500Z
DTEND:20260728T160000Z
SUMMARY;LANGUAGE=de: Barmherzigkeitsrosenkranz 
URL:http://www.breisigerland.de/aktuelles/gottesdienste/gottesdienst/Barmherzigkeitsrosenkranz-2026.07.28/
END:VEVENT
END:VCALENDAR
