BEGIN:VCALENDAR
VERSION:2.0
PRODID:http://www.breisigerland.de
BEGIN:VEVENT
UID:c69136d7-1e92-11f1-8342-0242ac11002b-1781967600000-de
DTSTAMP:20260313T041157Z
DTSTART:20260620T150000Z
DTEND:20260620T154500Z
SUMMARY;LANGUAGE=de: Firmung Das Sakrament der Firmung spendet Weihbischof Robert Brahm
END:VEVENT
END:VCALENDAR
