BEGIN:VCALENDAR
VERSION:2.0
PRODID:http://www.breisigerland.de
BEGIN:VEVENT
UID:9028a4b4-2993-11f1-a21a-0242ac11002b-1777129200000-de
DTSTAMP:20260327T041518Z
DTSTART:20260425T150000Z
DTEND:20260425T154500Z
SUMMARY;LANGUAGE=de: Ökumenischer Wortgottesdienst zur Firmvorbereitung "Ist da jemand" Gott in der Stadt begegnen
END:VEVENT
END:VCALENDAR
