BEGIN:VCALENDAR
VERSION:2.0
PRODID:http://www.breisigerland.de
BEGIN:VEVENT
UID:5b465735-3ec2-11f1-a3e9-0242ac11002b-1785510900000-de
DTSTAMP:20260423T031310Z
DTSTART:20260731T151500Z
DTEND:20260731T160000Z
SUMMARY;LANGUAGE=de: Rosenkranz  
URL:http://www.breisigerland.de/aktuelles/gottesdienste/gottesdienst/Rosenkranz-2026.07.31/
END:VEVENT
END:VCALENDAR
